BEGIN:VCALENDAR
VERSION:2.0
METHOD:PUBLISH
BEGIN:VEVENT
DTSTART:20190227T163000
DTEND:20190227T170000
LOCATION:3/18 Fourth Avenue Labrador, QLD 4215
TRANSP: OPAQUE
SEQUENCE:0
UID:
DTSTAMP:20190227T041335Z
SUMMARY:Home Open - Spacious 3 Bedroom Townhouse
DESCRIPTION:This 3 bedroom townhouse situated in the heart of Chirn Park is walking distance from local shops, cafes, restaurants and local parks. With 3 spacious bedrooms hidden away upstairs this property is great for anyone who likes to entertain. Equipped with stainless steel appliances and air conditioning in the master bedroom and downstairs.

Property features:
- 3 bedrooms
- Master with en suite
- Built in wardrobes
- Double lock up garage
- Entertainment deck
- Balcony off master
- Air conditioning

*Please contact Samantha on 0418 947 469 to register for an inspection.
PRIORITY:1
CLASS:PUBLIC
BEGIN:VALARM
TRIGGER:-PT10080M
ACTION:DISPLAY
DESCRIPTION:Reminder
END:VALARM
END:VEVENT
END:VCALENDAR
